BEGIN:VCALENDAR
VERSION:2.0
PRODID:spatie/icalendar-generator
DESCRIPTION:Events from University Hills Neighborhood Association
X-WR-CALDESC:Events from University Hills Neighborhood Association
REFRESH-INTERVAL;VALUE=DURATION:PT1440M
X-PUBLISHED-TTL:PT1440M
BEGIN:VTIMEZONE
TZID:Etc/GMT+0
BEGIN:STANDARD
DTSTART:20250805T090000Z
TZOFFSETFROM:+0000
TZOFFSETTO:+0000
END:STANDARD
END:VTIMEZONE
BEGIN:VTIMEZONE
TZID:UTC
BEGIN:STANDARD
DTSTART:20250728T154656Z
TZOFFSETFROM:+0000
TZOFFSETTO:+0000
END:STANDARD
END:VTIMEZONE
BEGIN:VEVENT
UID:109-8
DTSTAMP:20260424T154656Z
SUMMARY:Monthly Clean-Ups
LOCATION:Dottie Jordan Recreation Center 2803 Loyola Lane  Austin TX 78723
ORGANIZER;CN=UHNAdmin:MAILTO:claire.patoine@gmail.com
RRULE:FREQ=MONTHLY;BYDAY=1SA;UNTIL=20300101T000000Z
DTSTART;TZID=Etc/GMT+0:20260502T090000
DTEND;TZID=Etc/GMT+0:20260502T110000
X-ALT-DESC;FMTTYPE=TEXT/HTML:Monthly Clean-Ups: Neighbors of Dottie Jordan 
 Park &amp;amp\; Garden  When: Every 1st Saturday of the month\, 9 AM-11 AM Wh
 ere: Dottie Jordan Park\, next to the playground What to bring: Water bott
 le\, sunscreen\, and hat Long pants (protect yourself from the poison ivy\
 , yikes!) Wheelbarrow or cart if you have one
CATEGORIES:General
URL;VALUE=URI:https://universityhillsna.org/mc-events/monthly-clean-ups/?mc
 _id=109
END:VEVENT
END:VCALENDAR